BEGIN:VCALENDAR
VERSION:2.0
PRODID:-//Foerderverein-Kindertraeume - ECPv6.15.13.1//NONSGML v1.0//EN
CALSCALE:GREGORIAN
METHOD:PUBLISH
X-ORIGINAL-URL:https://foerderverein-kindertraeume.de
X-WR-CALDESC:Veranstaltungen für Foerderverein-Kindertraeume
REFRESH-INTERVAL;VALUE=DURATION:PT1H
X-Robots-Tag:noindex
X-PUBLISHED-TTL:PT1H
BEGIN:VTIMEZONE
TZID:Europe/Berlin
BEGIN:DAYLIGHT
TZOFFSETFROM:+0100
TZOFFSETTO:+0200
TZNAME:CEST
DTSTART:20220327T010000
END:DAYLIGHT
BEGIN:STANDARD
TZOFFSETFROM:+0200
TZOFFSETTO:+0100
TZNAME:CET
DTSTART:20221030T010000
END:STANDARD
BEGIN:DAYLIGHT
TZOFFSETFROM:+0100
TZOFFSETTO:+0200
TZNAME:CEST
DTSTART:20230326T010000
END:DAYLIGHT
BEGIN:STANDARD
TZOFFSETFROM:+0200
TZOFFSETTO:+0100
TZNAME:CET
DTSTART:20231029T010000
END:STANDARD
BEGIN:DAYLIGHT
TZOFFSETFROM:+0100
TZOFFSETTO:+0200
TZNAME:CEST
DTSTART:20240331T010000
END:DAYLIGHT
BEGIN:STANDARD
TZOFFSETFROM:+0200
TZOFFSETTO:+0100
TZNAME:CET
DTSTART:20241027T010000
END:STANDARD
END:VTIMEZONE
BEGIN:VEVENT
DTSTART;TZID=Europe/Berlin:20230413T080000
DTEND;TZID=Europe/Berlin:20230413T120000
DTSTAMP:20260420T144356
CREATED:20230226T194138Z
LAST-MODIFIED:20230226T194140Z
UID:1450-1681372800-1681387200@foerderverein-kindertraeume.de
SUMMARY:Kneipp-Fest GS Bad Schmiedeberg
DESCRIPTION:Kneipp-Fest – Verleihung des Gütesiegels „Vom Kneipp-Bund e.V. anerkannte Schule“
URL:https://foerderverein-kindertraeume.de/event/kneipp-fest-gs-bad-schmiedeberg/
ATTACH;FMTTYPE=image/jpeg:https://foerderverein-kindertraeume.de/wp-content/uploads/2017/01/kraeuter.jpg
END:VEVENT
END:VCALENDAR